BEGIN:VCALENDAR
VERSION:2.0
PRODID:-//Digitalzentrum Kaiserslautern - ECPv6.15.20//NONSGML v1.0//EN
CALSCALE:GREGORIAN
METHOD:PUBLISH
X-ORIGINAL-URL:https://digitalzentrum-kaiserslautern.de
X-WR-CALDESC:Veranstaltungen für Digitalzentrum Kaiserslautern
REFRESH-INTERVAL;VALUE=DURATION:PT1H
X-Robots-Tag:noindex
X-PUBLISHED-TTL:PT1H
BEGIN:VTIMEZONE
TZID:Europe/Berlin
BEGIN:DAYLIGHT
TZOFFSETFROM:+0100
TZOFFSETTO:+0200
TZNAME:CEST
DTSTART:20250330T010000
END:DAYLIGHT
BEGIN:STANDARD
TZOFFSETFROM:+0200
TZOFFSETTO:+0100
TZNAME:CET
DTSTART:20251026T010000
END:STANDARD
BEGIN:DAYLIGHT
TZOFFSETFROM:+0100
TZOFFSETTO:+0200
TZNAME:CEST
DTSTART:20260329T010000
END:DAYLIGHT
BEGIN:STANDARD
TZOFFSETFROM:+0200
TZOFFSETTO:+0100
TZNAME:CET
DTSTART:20261025T010000
END:STANDARD
BEGIN:DAYLIGHT
TZOFFSETFROM:+0100
TZOFFSETTO:+0200
TZNAME:CEST
DTSTART:20270328T010000
END:DAYLIGHT
BEGIN:STANDARD
TZOFFSETFROM:+0200
TZOFFSETTO:+0100
TZNAME:CET
DTSTART:20271031T010000
END:STANDARD
END:VTIMEZONE
BEGIN:VEVENT
DTSTART;TZID=Europe/Berlin:20260504T120000
DTEND;TZID=Europe/Berlin:20260504T130000
DTSTAMP:20260421T135020
CREATED:20260410T083105Z
LAST-MODIFIED:20260410T083105Z
UID:15173-1777896000-1777899600@digitalzentrum-kaiserslautern.de
SUMMARY:Künstliche Intelligenz im Büroalltag: Trends\, Herausforderungen und Chancen
DESCRIPTION:Eine Kooperationsveranstaltung mit der Wirtschaftsförderung der Landeshauptstadt Mainz \n\n\nLassen Sie sich inspirieren\, wie KI den Büroalltag einfacher und smarter machen kann. Ganz entspannt und leichtbekömmlich zur Mittagspause! \n\n\n\n\nKünstliche Intelligenz hält zunehmend Einzug in den Büroalltag und verändert\, wie wir arbeiten\, kommunizieren und Informationen verarbeiten. Der Einsatz von KI-Tools hilft dabei\, Aufgaben effizienter zu erledigen\, kann jedoch auch mit Herausforderungen einhergehen. \nIn diesem zweiteiligen Format bestehend aus einem einstündigen Impuls-Webinar und einem Vor-Ort Workshop in Mainz\, lernen Sie aktuelle Trends des Einsatzes von KI im Büroalltag kennen. Wir stellen Ihnen ausgewählte KI-Tools für die Bereiche Textbearbeitung\, Kommunikation\, Kreativarbeit\, Workflow-Management etc. vor. Dabei wechseln sich theoretische Kurzimpulse und interaktive Blöcke ab\, in denen Sie unterschiedliche Tools direkt selbst kennenlernen und ausprobieren können. \n\n\nReferentin\nIlknur Atakli-Ahmed\, Mittelstand-Digital Zentrum Kaiserslautern \nVeranstaltungsort\nOnline \nDie Teilnahme ist kostenfrei. \nAnmeldung: https://www.eventbrite.com/e/kunstliche-intelligenz-im-buroalltag-trends-herausforderungen-und-chancen-tickets-1985976275501?aff=oddtdtcreator 
URL:https://digitalzentrum-kaiserslautern.de/veranstaltungen/kuenstliche-intelligenz-im-bueroalltag-trends-herausforderungen-und-chancen
LOCATION:Online
CATEGORIES:Seminare/Webinare
ATTACH;FMTTYPE=image/jpeg:https://digitalzentrum-kaiserslautern.de/wp-content/uploads/2021/08/Seminare-e1629358862348.jpg
END:VEVENT
END:VCALENDAR