BEGIN:VCALENDAR
VERSION:2.0
PRODID:-//Digitalzentrum Kaiserslautern - ECPv6.15.20//NONSGML v1.0//EN
CALSCALE:GREGORIAN
METHOD:PUBLISH
X-WR-CALNAME:Digitalzentrum Kaiserslautern
X-ORIGINAL-URL:https://digitalzentrum-kaiserslautern.de
X-WR-CALDESC:Veranstaltungen für Digitalzentrum Kaiserslautern
REFRESH-INTERVAL;VALUE=DURATION:PT1H
X-Robots-Tag:noindex
X-PUBLISHED-TTL:PT1H
BEGIN:VTIMEZONE
TZID:Europe/Berlin
BEGIN:DAYLIGHT
TZOFFSETFROM:+0100
TZOFFSETTO:+0200
TZNAME:CEST
DTSTART:20240331T010000
END:DAYLIGHT
BEGIN:STANDARD
TZOFFSETFROM:+0200
TZOFFSETTO:+0100
TZNAME:CET
DTSTART:20241027T010000
END:STANDARD
BEGIN:DAYLIGHT
TZOFFSETFROM:+0100
TZOFFSETTO:+0200
TZNAME:CEST
DTSTART:20250330T010000
END:DAYLIGHT
BEGIN:STANDARD
TZOFFSETFROM:+0200
TZOFFSETTO:+0100
TZNAME:CET
DTSTART:20251026T010000
END:STANDARD
BEGIN:DAYLIGHT
TZOFFSETFROM:+0100
TZOFFSETTO:+0200
TZNAME:CEST
DTSTART:20260329T010000
END:DAYLIGHT
BEGIN:STANDARD
TZOFFSETFROM:+0200
TZOFFSETTO:+0100
TZNAME:CET
DTSTART:20261025T010000
END:STANDARD
END:VTIMEZONE
BEGIN:VEVENT
DTSTART;TZID=Europe/Berlin:20250702T100000
DTEND;TZID=Europe/Berlin:20250702T113000
DTSTAMP:20260423T162137
CREATED:20250506T130300Z
LAST-MODIFIED:20250701T092824Z
UID:14463-1751450400-1751455800@digitalzentrum-kaiserslautern.de
SUMMARY:KI trifft Nachhaltigkeit: Energie- und Ressourceneffizienz mit KI
DESCRIPTION:Eine Veranstaltungsreihe in Kooperation mit dem Mittelstand-Digital Zentrum Saarbrücken\nEntdecken Sie die Kraft der Künstlichen Intelligenz für ganzheitliche Nachhaltigkeit in Ihrem Unternehmen! Unsere Online-Seminarreihe führt Sie durch die Welt der KI-gestützten Lösungen für ökologische\, soziale und ökonomische Nachhaltigkeit.\nProfitieren Sie von Expertenwissen\, interaktiven Übungen und konkreten Anwendungsbeispielen. Egal ob Einsteiger oder Fortgeschrittene – diese Veranstaltungsreihe bietet Ihnen die Tools\, um Ihr KMU fit für eine nachhaltige und digitale Zukunft zu machen. \nGerade in Zeiten der Energiekrise und bei steigenden Energie- und Ressourcenpreisen ist es wichtig sich mit dem Thema Energie und Ressourceneffizienz auseinander zu setzen. Dies gilt sowohl für private Haushalte als auch für Unternehmen. Am 2. Juli vermitteln wir Ihnen Grundlagenwissen zum Thema Energie- und Ressourceneffizienz und zeigen Ihnen Methodiken und Praxisbeispiele auf\, wie Sie Optimierungspotenziale in Ihren Unternehmen identifizieren und nutzen können. Dazu lernen Sie Ressourcenfelder und deren Potenziale im Unternehmenskontext kennen und was es bedeutet energie- und ressourceneffizient zu agieren. Sie erhalten einen Überblick über Beispiele anderer Unternehmen\, die bereits erfolgreich Ressourcen- und Energieverbräuche mittels Digitalisierung und Künstlicher Intelligenz optimiert haben. Es werden Ihnen Methodiken an die Hand gegeben\, die Sie in einem Praxisteil erlernen und auf Ihr Unternehmen direkt anwenden können. \nReferenten\nSören Schäfer (Mittelstand-Digital Zentrum Saarbrücken)\nChristian Kränzler (Mittelstand-Digital Zentrum Kaiserslautern) \n\nZur Anmeldung\nNach erfolgreicher Anmeldung erhalten Sie einen Tag vor dem Termin eine E-Mail mit dem Teilnahmelink.
URL:https://digitalzentrum-kaiserslautern.de/veranstaltungen/ki-trifft-nachhaltigkeit-energie-und-ressourceneffizienz-mit-ki
LOCATION:Online
CATEGORIES:Seminare/Webinare
ATTACH;FMTTYPE=image/jpeg:https://digitalzentrum-kaiserslautern.de/wp-content/uploads/2021/08/Seminare-e1629358862348.jpg
END:VEVENT
END:VCALENDAR