BEGIN:VCALENDAR
VERSION:2.0
PRODID:-//Digitalzentrum Kaiserslautern - ECPv6.15.20//NONSGML v1.0//EN
CALSCALE:GREGORIAN
METHOD:PUBLISH
X-WR-CALNAME:Digitalzentrum Kaiserslautern
X-ORIGINAL-URL:https://digitalzentrum-kaiserslautern.de
X-WR-CALDESC:Veranstaltungen für Digitalzentrum Kaiserslautern
REFRESH-INTERVAL;VALUE=DURATION:PT1H
X-Robots-Tag:noindex
X-PUBLISHED-TTL:PT1H
BEGIN:VTIMEZONE
TZID:Europe/Berlin
BEGIN:DAYLIGHT
TZOFFSETFROM:+0100
TZOFFSETTO:+0200
TZNAME:CEST
DTSTART:20240331T010000
END:DAYLIGHT
BEGIN:STANDARD
TZOFFSETFROM:+0200
TZOFFSETTO:+0100
TZNAME:CET
DTSTART:20241027T010000
END:STANDARD
BEGIN:DAYLIGHT
TZOFFSETFROM:+0100
TZOFFSETTO:+0200
TZNAME:CEST
DTSTART:20250330T010000
END:DAYLIGHT
BEGIN:STANDARD
TZOFFSETFROM:+0200
TZOFFSETTO:+0100
TZNAME:CET
DTSTART:20251026T010000
END:STANDARD
BEGIN:DAYLIGHT
TZOFFSETFROM:+0100
TZOFFSETTO:+0200
TZNAME:CEST
DTSTART:20260329T010000
END:DAYLIGHT
BEGIN:STANDARD
TZOFFSETFROM:+0200
TZOFFSETTO:+0100
TZNAME:CET
DTSTART:20261025T010000
END:STANDARD
END:VTIMEZONE
BEGIN:VEVENT
DTSTART;TZID=Europe/Berlin:20250310T100000
DTEND;TZID=Europe/Berlin:20250310T113000
DTSTAMP:20260423T105125
CREATED:20250306T150623Z
LAST-MODIFIED:20250306T151129Z
UID:14136-1741600800-1741606200@digitalzentrum-kaiserslautern.de
SUMMARY:KI-Frühling 2025: KI im Einsatz - von der Idee bis zur Nutzung
DESCRIPTION:Eine Kooperationsveranstaltung mit Mittelstand-Digital Zentrum Ilmenau und KI-Hub Sachsen-Thüringen\nKünstliche Intelligenz eröffnet Unternehmen neue Möglichkeiten und Potenziale. In diesem interaktiven Workshop lernen die Teilnehmenden praxisnah\, wie KI von der ersten Idee bis zur erfolgreichen Anwendung implementiert wird.\nDie Teilnehmenden entwickeln gemeinsam die entscheidenden Schritte für ein KI-Projekt. Von der Ideenfindung über die konkrete Planung bis zur abschließenden Evaluation wird gezeigt\, welche Voraussetzungen erfüllt sein müssen\, was bei der Umsetzung beachtet werden sollte und wie KI gewinnbringend eingesetzt werden kann. Der Workshop bietet einen praxisorientierten Austausch\, um konkrete Lösungen für den Unternehmensalltag zu erarbeiten. \nReferenten\nSarah Rübel\, Jonas Brozeit (Mittelstand Digital-Zentrum Kaiserslautern) \nAnmeldung\nDie Anmeldung erfolgt über das Mittelstand-Digital Zentrum Ilmenau\, unter dem folgenden Link.
URL:https://digitalzentrum-kaiserslautern.de/veranstaltungen/ki-fruehling-2025-ki-im-einsatz-von-der-idee-bis-zur-nutzung
LOCATION:Online
CATEGORIES:Seminare/Webinare
ATTACH;FMTTYPE=image/jpeg:https://digitalzentrum-kaiserslautern.de/wp-content/uploads/2021/08/Seminare-e1629358862348.jpg
END:VEVENT
END:VCALENDAR