BEGIN:VCALENDAR
VERSION:2.0
PRODID:-//Digitalzentrum Kaiserslautern - ECPv6.15.20//NONSGML v1.0//EN
CALSCALE:GREGORIAN
METHOD:PUBLISH
X-WR-CALNAME:Digitalzentrum Kaiserslautern
X-ORIGINAL-URL:https://digitalzentrum-kaiserslautern.de
X-WR-CALDESC:Veranstaltungen für Digitalzentrum Kaiserslautern
REFRESH-INTERVAL;VALUE=DURATION:PT1H
X-Robots-Tag:noindex
X-PUBLISHED-TTL:PT1H
BEGIN:VTIMEZONE
TZID:Europe/Berlin
BEGIN:DAYLIGHT
TZOFFSETFROM:+0100
TZOFFSETTO:+0200
TZNAME:CEST
DTSTART:20230326T010000
END:DAYLIGHT
BEGIN:STANDARD
TZOFFSETFROM:+0200
TZOFFSETTO:+0100
TZNAME:CET
DTSTART:20231029T010000
END:STANDARD
BEGIN:DAYLIGHT
TZOFFSETFROM:+0100
TZOFFSETTO:+0200
TZNAME:CEST
DTSTART:20240331T010000
END:DAYLIGHT
BEGIN:STANDARD
TZOFFSETFROM:+0200
TZOFFSETTO:+0100
TZNAME:CET
DTSTART:20241027T010000
END:STANDARD
BEGIN:DAYLIGHT
TZOFFSETFROM:+0100
TZOFFSETTO:+0200
TZNAME:CEST
DTSTART:20250330T010000
END:DAYLIGHT
BEGIN:STANDARD
TZOFFSETFROM:+0200
TZOFFSETTO:+0100
TZNAME:CET
DTSTART:20251026T010000
END:STANDARD
END:VTIMEZONE
BEGIN:VEVENT
DTSTART;TZID=Europe/Berlin:20241210T130000
DTEND;TZID=Europe/Berlin:20241210T160000
DTSTAMP:20260423T103208
CREATED:20240930T071705Z
LAST-MODIFIED:20240930T071705Z
UID:13734-1733835600-1733846400@digitalzentrum-kaiserslautern.de
SUMMARY:Planspiel "Nachhaltig digitalisieren"
DESCRIPTION:Unternehmen durchlaufen die digitale Transformation in typischen Phasen. Ein wichtiger Faktor dabei ist\, Nachhaltigkeitsaspekte in allen Phasen mitzudenken. Immer wieder stehen Entscheidungen an\, welche Ressourcen für welche Zwecke eingesetzt werden\, welche Mitarbeiter*innen eingebunden werden sollen\, wie das Projektteam aufgestellt sein muss\, um Erfolge zu generieren und wie die Digitalisierung nachhaltig gestaltet werden kann.\nSpielerisch durchlaufen Sie als Gruppe mit unserem Planspiel „Nachhaltig digitalisieren“ diesen Prozess und entscheiden sich von Phase zu Phase für den richtigen Einsatz Ihrer „Digicoins“. Wir begleiten Sie hierbei und reflektieren mit Ihnen am Ende das Ergebnis. \nReferentin\nIlknur Atakli (Mittelstand-Digital Zentrum Kaiserslautern) \n\nZur Anmeldung\nNach erfolgreicher Anmeldung erhalten Sie einen Tag vor dem Termin eine E-Mail mit dem Teilnahmelink.
URL:https://digitalzentrum-kaiserslautern.de/veranstaltungen/planspiel-nachhaltig-digitalisieren-4
LOCATION:Online
CATEGORIES:Seminare/Webinare
ATTACH;FMTTYPE=image/jpeg:https://digitalzentrum-kaiserslautern.de/wp-content/uploads/2021/08/Seminare-e1629358862348.jpg
END:VEVENT
BEGIN:VEVENT
DTSTART;TZID=Europe/Berlin:20241210T130000
DTEND;TZID=Europe/Berlin:20241210T170000
DTSTAMP:20260423T103208
CREATED:20241203T124325Z
LAST-MODIFIED:20241203T124325Z
UID:14004-1733835600-1733850000@digitalzentrum-kaiserslautern.de
SUMMARY:KI-Guide im Unternehmen – Mittelstands-Qualifizierung für Bioscience\, Medtec & Healthcare
DESCRIPTION:Die Workshop-Reihe ist ein Angebot des Mittelstand-Digital Zentrum WertNetzWerke. \nDie Expert*innen des Mittelstand-Digital Zentrum Kaiserslautern begleiten die Qualifizierungsreihe mit dem Titel „KI-Guide im Unternehmen – Qualifizierung für Bioscience\, Medtec & Healthcare“ und vermitteln Fach- und Methodenwissen anhand von Impulsvorträgen\, Praxisbeispielen und Übungen. \nDas Programm erstreckt sich über drei Ebenen: KI-Management\, KI-Technologie sowie branchenspezifische KI-Begleitthemen\, insbesondere mit Fokus auf die „Einführung in die Welt der künstlichen Intelligenz“\, „Einordnung von KI-Technologien“ sowie auf eine „Implementierungsguideline“. \nVeranstaltungsort\nFraunhofer-Zentrum für Internationales Management und Wissensökonomie IMW\, Martin-Luther-Ring 13\, 04109 Leipzig \nAnmeldung\nDie Anmeldung erfolgt über das MDZ WertNetzWerke\, unter dem folgenden Link. \nHinweis\nDie Veranstaltung am 10. Dezember ist ausgebucht. Bitte informieren Sie sich unter 0341-231039234 über kurzfristig freigewordene Plätze.
URL:https://digitalzentrum-kaiserslautern.de/veranstaltungen/ki-guide-im-unternehmen-mittelstands-qualifizierung-fuer-bioscience-medtec-healthcare
LOCATION:Fraunhofer-Zentrum für Internationales Management und Wissensökonomie IMW\, Martin-Luther-Ring 13\, Leipzig\, Sachsen\, 04109\, Germany
CATEGORIES:Workshops
ATTACH;FMTTYPE=image/jpeg:https://digitalzentrum-kaiserslautern.de/wp-content/uploads/2021/08/Workshops-1-e1629359352761.jpg
END:VEVENT
END:VCALENDAR